BEGIN:VCALENDAR
VERSION:2.0
PRODID:-//www.oxonraces.com//oxonraces//EN
METHOD:PUBLISH
BEGIN:VEVENT
UID:2026-09-06-westonbirt-glos@www.oxonraces.com
DESCRIPTION:details=http://www.oxonraces.com/#2026-09-06-westonbirt-glos\, length=half marathon and 10K and 5K\, cd=?\, eods=?\, results=?
LOCATION:GL8 8QS (Westonbirt (Glos))
SUMMARY:Westonbirt Arboretum Summer 10K and 5K - Sunday\, cd=?\, eods=?
DTSTART;VALUE=DATE:20260906
DTEND;VALUE=DATE:20260906
DTSTAMP:20260326T062513Z
URL:http://www.oxonraces.com/#2026-09-06-westonbirt-glos
END:VEVENT
END:VCALENDAR